BEGIN:VCALENDAR
VERSION:2.0
PRODID:-//Grundschule Norddeich - ECPv5.16.4//NONSGML v1.0//EN
CALSCALE:GREGORIAN
METHOD:PUBLISH
X-WR-CALNAME:Grundschule Norddeich
X-ORIGINAL-URL:https://grundschule-norddeich.de
X-WR-CALDESC:Veranstaltungen für Grundschule Norddeich
REFRESH-INTERVAL;VALUE=DURATION:PT1H
X-Robots-Tag:noindex
X-PUBLISHED-TTL:PT1H
BEGIN:VTIMEZONE
TZID:UTC
BEGIN:STANDARD
TZOFFSETFROM:+0000
TZOFFSETTO:+0000
TZNAME:UTC
DTSTART:20240101T000000
END:STANDARD
END:VTIMEZONE
BEGIN:VEVENT
DTSTART;VALUE=DATE:20241223
DTEND;VALUE=DATE:20250106
DTSTAMP:20260424T101957
CREATED:20240617T083407Z
LAST-MODIFIED:20240617T083407Z
UID:3595-1734912000-1736121599@grundschule-norddeich.de
SUMMARY:Weihnachtsferien
DESCRIPTION:
URL:https://grundschule-norddeich.de/kalender/weihnachtsferien-4/
END:VEVENT
BEGIN:VEVENT
DTSTART;TZID=UTC:20250121T074500
DTEND;TZID=UTC:20250121T094000
DTSTAMP:20260424T101957
CREATED:20240617T083543Z
LAST-MODIFIED:20240617T083543Z
UID:3599-1737445500-1737452400@grundschule-norddeich.de
SUMMARY:Zeugnisausgabe
DESCRIPTION:
URL:https://grundschule-norddeich.de/kalender/zeugnisausgabe-5/
END:VEVENT
BEGIN:VEVENT
DTSTART;TZID=UTC:20250121T150000
DTEND;TZID=UTC:20250121T163000
DTSTAMP:20260424T101957
CREATED:20240617T083459Z
LAST-MODIFIED:20240617T083459Z
UID:3597-1737471600-1737477000@grundschule-norddeich.de
SUMMARY:Zeugniskonferenzen: Klasse 2-4
DESCRIPTION:
URL:https://grundschule-norddeich.de/kalender/zeugniskonferenzen-klasse-2-4/
END:VEVENT
BEGIN:VEVENT
DTSTART;VALUE=DATE:20250122
DTEND;VALUE=DATE:20250123
DTSTAMP:20260424T101957
CREATED:20250122T113006Z
LAST-MODIFIED:20250122T113006Z
UID:3638-1737504000-1737590399@grundschule-norddeich.de
SUMMARY:Karnevalsfeier
DESCRIPTION:
URL:https://grundschule-norddeich.de/kalender/karnevalsfeier/
END:VEVENT
END:VCALENDAR